 BEGIN:VCALENDAR
VERSION:2.0
PRODID:-//Taverne Gutenberg - ECPv4.7.2//NONSGML v1.0//EN
CALSCALE:GREGORIAN
METHOD:PUBLISH
X-WR-CALNAME:Taverne Gutenberg
X-ORIGINAL-URL:http://www.taverne-gutenberg.com
X-WR-CALDESC:Évènements pour Taverne Gutenberg
BEGIN:VEVENT
DTSTART;TZID=Europe/Paris:20180111T180000
DTEND;TZID=Europe/Paris:20180218T210000
DTSTAMP:20260421T092703
CREATED:20180101T193530Z
LAST-MODIFIED:20180114T185235Z
UID:2901-1515693600-1518987600@www.taverne-gutenberg.com
SUMMARY:Expo — La Belle et la Bête
DESCRIPTION:\nExposition collective « La Belle et la Bête » \nby Floating Crew (Paris)\n\n\n\n> Vernissage le jeudi 11 janvier 2018 de 18h à 21h30\n\n\n> Exposition jusqu’au 18 février\n\n\n \n\n\n— ARTISTES INVITÉS —\n\n\nPanar\n\n\nKylam\n\n\nCharles Thomassin \n\n\nCarole Mousset\n\n\nXevi Sola\n\n\n \n\n\nCommissaire d’exposition : Valentin Villeneuve\n\n\n\n La Belle\, la Bête\, ou comment transposer le mythe de la dualité de l’être humain à la question de l’opposition entre le beau et le laid. Quelles sont aujourd’hui les nécessités de dépasser les apparences ? Pouvons nous juger les différentes facettes de l’esthétisme artistique? Les œuvres qui seront présentées nous invitent à un questionnement face à la notion d’esthétisme\, il s’agit pour le spectateur d’aller au delà de l’apparence et de recomposer sa propre analyse critique.\n\n\n \n\n\n— DJ SET —\nwww.jekyllethyde.fr\n\n\n \n\n\n \n\n\n— NOUVELLE POLITIQUE D’ADHÉSION 2018 —\n\n\n \n\n\n// ADHÉSION ANNUELLE = 12 €\, qui comprend :\n\n\n– Accès libre aux expositions & aux étages toute l’année\n\n\n– Tarif préférentiel sur tous les événements\n\n\n \n\n\n// ADHÉSION FLASH 24h = 3 € \n\n\n– Accès libre aux expositions & aux étages pendant 24h\n\n\n \n\n\n+ d’info sur la programmation 2018 et la nouvelle politique d’adhésion très prochainement ! (Vous êtes impatients ? envoyez un email à guillaume@taverne-gutenberg.fr)\n\n\n \n\n\n \n\n\n— INFOS PRATIQUES — \n\n\n> Entrée adhérents : Gratuite\n\n\n> Entrée non adhérent : 3 €\n\n\n> La jauge sera limitée dans les étages\, afin de pouvoir profiter pleinement de l’exposition \n\n\n> Accès Métro D\, Guillotière / Tram T1 Liberté\n\n\n> www.taverne-gutenberg.com\n\n
URL:http://www.taverne-gutenberg.com/event/vernissage-la-belle-et-la-bete/
LOCATION:Taverne Gutenberg\, 5 rue de l'Épée\, Lyon\, 69003\, France
CATEGORIES:Exposition
ATTACH;FMTTYPE=image/jpeg:http://www.taverne-gutenberg.com/wp-content/uploads/2018/01/Affiche_EVENT-COVER_2400x1350px_2018-01-10-Belle-bete.jpg
END:VEVENT
END:VCALENDAR